Package: BatchSVG Version: 1.1.1 Command: /Library/Frameworks/R.framework/Resources/bin/R CMD build --keep-empty-dirs --no-resave-data BatchSVG StartedAt: 2025-10-07 16:05:51 -0400 (Tue, 07 Oct 2025) EndedAt: 2025-10-07 16:09:45 -0400 (Tue, 07 Oct 2025) EllapsedTime: 233.9 seconds RetCode: 0 Status: OK PackageFile: BatchSVG_1.1.1.tar.gz PackageFileSize: 1.689 MiB