Package: BatchSVG Version: 1.1.1 Command: rm -rf BatchSVG.buildbin-libdir && mkdir BatchSVG.buildbin-libdir && /Users/biocbuild/BBS/utils/build-universal.sh BatchSVG_1.1.1.tar.gz /Library/Frameworks/R.framework/Resources/bin/R BatchSVG.buildbin-libdir StartedAt: 2025-10-08 02:06:09 -0400 (Wed, 08 Oct 2025) EndedAt: 2025-10-08 02:06:49 -0400 (Wed, 08 Oct 2025) EllapsedTime: 39.8 seconds RetCode: 0 Status: OK PackageFile: BatchSVG_1.1.1.tgz PackageFileSize: 1.715 MiB