Package: BatchSVG Version: 1.1.0 Command: /Library/Frameworks/R.framework/Resources/bin/R CMD INSTALL BatchSVG StartedAt: 2025-10-01 15:29:34 -0400 (Wed, 01 Oct 2025) EndedAt: 2025-10-01 15:29:45 -0400 (Wed, 01 Oct 2025) EllapsedTime: 10.4 seconds RetCode: 0 Status: OK