Package: BatchSVG Version: 1.1.0 Command: /Library/Frameworks/R.framework/Resources/bin/R CMD build --keep-empty-dirs --no-resave-data BatchSVG StartedAt: 2025-10-01 15:43:30 -0400 (Wed, 01 Oct 2025) EndedAt: 2025-10-01 15:44:36 -0400 (Wed, 01 Oct 2025) EllapsedTime: 65.8 seconds RetCode: 0 Status: OK PackageFile: BatchSVG_1.1.0.tar.gz PackageFileSize: 1.69 MiB