Package: BatchSVG Version: 1.1.0 Command: rm -rf BatchSVG.buildbin-libdir && mkdir BatchSVG.buildbin-libdir && /Users/biocbuild/BBS/utils/build-universal.sh BatchSVG_1.1.0.tar.gz /Library/Frameworks/R.framework/Resources/bin/R BatchSVG.buildbin-libdir StartedAt: 2025-10-01 22:39:03 -0400 (Wed, 01 Oct 2025) EndedAt: 2025-10-01 22:39:16 -0400 (Wed, 01 Oct 2025) EllapsedTime: 12.2 seconds RetCode: 0 Status: OK PackageFile: BatchSVG_1.1.0.tgz PackageFileSize: 1.716 MiB