Package: BasicSTARRseq Version: 1.37.1 Command: /home/biocbuild/R/R/bin/R CMD INSTALL BasicSTARRseq StartedAt: 2025-10-20 20:39:08 -0000 (Mon, 20 Oct 2025) EndedAt: 2025-10-20 20:39:43 -0000 (Mon, 20 Oct 2025) EllapsedTime: 34.7 seconds RetCode: 0 Status: OK