Package: BasicSTARRseq Version: 1.37.1 Command: /home/biocbuild/R/R/bin/R CMD build --keep-empty-dirs --no-resave-data BasicSTARRseq StartedAt: 2025-10-20 21:55:55 -0000 (Mon, 20 Oct 2025) EndedAt: 2025-10-20 21:56:41 -0000 (Mon, 20 Oct 2025) EllapsedTime: 46.0 seconds RetCode: 0 Status: OK PackageFile: BasicSTARRseq_1.37.1.tar.gz PackageFileSize: 544.8 KiB