Package: BasicSTARRseq Version: 1.37.1 Command: /Library/Frameworks/R.framework/Resources/bin/R CMD INSTALL BasicSTARRseq StartedAt: 2025-07-25 15:26:19 -0400 (Fri, 25 Jul 2025) EndedAt: 2025-07-25 15:26:53 -0400 (Fri, 25 Jul 2025) EllapsedTime: 34.5 seconds RetCode: 0 Status: OK