Package: BasicSTARRseq Version: 1.35.0 Command: /home/biocbuild/R/R/bin/R CMD check --install=check:BasicSTARRseq.install-out.txt --library=/home/biocbuild/R/R/site-library --no-vignettes --timings BasicSTARRseq_1.35.0.tar.gz StartedAt: 2025-01-28 03:42:16 -0000 (Tue, 28 Jan 2025) EndedAt: 2025-01-28 03:45:56 -0000 (Tue, 28 Jan 2025) EllapsedTime: 220.3 seconds RetCode: 0 Status: OK CheckDir: BasicSTARRseq.Rcheck Warnings: 0