Package: BasicSTARRseq Version: 1.35.0 Command: /home/biocbuild/R/R/bin/R CMD build --keep-empty-dirs --no-resave-data BasicSTARRseq StartedAt: 2025-01-29 21:00:19 -0000 (Wed, 29 Jan 2025) EndedAt: 2025-01-29 21:01:09 -0000 (Wed, 29 Jan 2025) EllapsedTime: 50.0 seconds RetCode: 0 Status: OK PackageFile: BasicSTARRseq_1.35.0.tar.gz PackageFileSize: 544.8 KiB