Package: BasicSTARRseq Version: 1.37.0 Command: /Library/Frameworks/R.framework/Resources/bin/R CMD INSTALL BasicSTARRseq StartedAt: 2025-05-19 15:12:44 -0400 (Mon, 19 May 2025) EndedAt: 2025-05-19 15:12:55 -0400 (Mon, 19 May 2025) EllapsedTime: 10.4 seconds RetCode: 0 Status: OK