Package: Basic4Cseq Version: 1.45.1 Command: /home/biocbuild/R/R/bin/R CMD INSTALL Basic4Cseq StartedAt: 2025-10-23 20:56:07 -0000 (Thu, 23 Oct 2025) EndedAt: 2025-10-23 20:56:52 -0000 (Thu, 23 Oct 2025) EllapsedTime: 44.2 seconds RetCode: 0 Status: OK