Package: Basic4Cseq Version: 1.45.1 Command: /home/biocbuild/R/R/bin/R CMD build --keep-empty-dirs --no-resave-data Basic4Cseq StartedAt: 2025-10-20 21:54:12 -0000 (Mon, 20 Oct 2025) EndedAt: 2025-10-20 21:55:17 -0000 (Mon, 20 Oct 2025) EllapsedTime: 65.0 seconds RetCode: 0 Status: OK PackageFile: Basic4Cseq_1.45.1.tar.gz PackageFileSize: 381.4 KiB