Package: BaseSpaceR Version: 1.53.0 Command: rm -rf BaseSpaceR.buildbin-libdir && mkdir BaseSpaceR.buildbin-libdir && F:\biocbuild\bbs-3.22-bioc\R\bin\R.exe CMD INSTALL --build --library=BaseSpaceR.buildbin-libdir BaseSpaceR_1.53.0.tar.gz StartedAt: 2025-08-15 09:46:13 -0400 (Fri, 15 Aug 2025) EndedAt: 2025-08-15 09:47:18 -0400 (Fri, 15 Aug 2025) EllapsedTime: 64.8 seconds RetCode: 0 Status: OK PackageFile: BaseSpaceR_1.53.0.zip PackageFileSize: 592.7 KiB