Package: BaseSpaceR Version: 1.51.0 Command: /Library/Frameworks/R.framework/Resources/bin/R CMD INSTALL BaseSpaceR StartedAt: 2025-02-05 15:05:05 -0500 (Wed, 05 Feb 2025) EndedAt: 2025-02-05 15:05:30 -0500 (Wed, 05 Feb 2025) EllapsedTime: 25.2 seconds RetCode: 0 Status: OK