Package: BaseSpaceR Version: 1.51.0 Command: /Library/Frameworks/R.framework/Resources/bin/R CMD build --keep-empty-dirs --no-resave-data BaseSpaceR StartedAt: 2025-02-05 15:55:16 -0500 (Wed, 05 Feb 2025) EndedAt: 2025-02-05 15:55:34 -0500 (Wed, 05 Feb 2025) EllapsedTime: 18.2 seconds RetCode: 0 Status: OK PackageFile: BaseSpaceR_1.51.0.tar.gz PackageFileSize: 581.2 KiB