Package: BaseSpaceR Version: 1.51.0 Command: /Library/Frameworks/R.framework/Resources/bin/R CMD INSTALL BaseSpaceR StartedAt: 2025-02-19 15:02:15 -0500 (Wed, 19 Feb 2025) EndedAt: 2025-02-19 15:02:18 -0500 (Wed, 19 Feb 2025) EllapsedTime: 2.9 seconds RetCode: 0 Status: OK