Package: BaseSpaceR Version: 1.51.0 Command: rm -rf BaseSpaceR.buildbin-libdir && mkdir BaseSpaceR.buildbin-libdir && /Users/biocbuild/BBS/utils/build-universal.sh BaseSpaceR_1.51.0.tar.gz /Library/Frameworks/R.framework/Resources/bin/R BaseSpaceR.buildbin-libdir StartedAt: 2025-02-19 22:13:57 -0500 (Wed, 19 Feb 2025) EndedAt: 2025-02-19 22:14:00 -0500 (Wed, 19 Feb 2025) EllapsedTime: 3.1 seconds RetCode: 0 Status: OK PackageFile: BaseSpaceR_1.51.0.tgz PackageFileSize: 750.8 KiB