Package: Banksy Version: 1.3.0 Command: E:\biocbuild\bbs-3.21-bioc\R\bin\R.exe CMD check --no-multiarch --install=check:Banksy.install-out.txt --library=E:\biocbuild\bbs-3.21-bioc\R\library --no-vignettes --timings Banksy_1.3.0.tar.gz StartedAt: 2025-02-02 22:40:54 -0500 (Sun, 02 Feb 2025) EndedAt: 2025-02-02 22:45:11 -0500 (Sun, 02 Feb 2025) EllapsedTime: 256.4 seconds RetCode: 0 Status: OK CheckDir: Banksy.Rcheck Warnings: 0