Package: Banksy Version: 1.3.0 Command: /home/biocbuild/bbs-3.21-bioc/R/bin/R CMD check --install=check:Banksy.install-out.txt --library=/home/biocbuild/bbs-3.21-bioc/R/site-library --timings Banksy_1.3.0.tar.gz StartedAt: 2025-02-14 19:54:46 -0500 (Fri, 14 Feb 2025) EndedAt: 2025-02-14 20:05:33 -0500 (Fri, 14 Feb 2025) EllapsedTime: 647.7 seconds RetCode: 0 Status: OK CheckDir: Banksy.Rcheck Warnings: 0