Package: Banksy Version: 1.3.0 Command: /Library/Frameworks/R.framework/Resources/bin/R CMD check --install=check:Banksy.install-out.txt --library=/Library/Frameworks/R.framework/Resources/library --no-vignettes --timings Banksy_1.3.0.tar.gz StartedAt: 2025-02-20 18:07:55 -0500 (Thu, 20 Feb 2025) EndedAt: 2025-02-20 18:09:23 -0500 (Thu, 20 Feb 2025) EllapsedTime: 88.0 seconds RetCode: 0 Status: OK CheckDir: Banksy.Rcheck Warnings: 0