Package: BadRegionFinder Version: 1.37.0 Command: chmod a+r BadRegionFinder -R && F:\biocbuild\bbs-3.22-bioc\R\bin\R.exe CMD build --keep-empty-dirs --no-resave-data BadRegionFinder StartedAt: 2025-08-14 18:31:46 -0400 (Thu, 14 Aug 2025) EndedAt: 2025-08-14 18:33:26 -0400 (Thu, 14 Aug 2025) EllapsedTime: 99.8 seconds RetCode: 0 Status: OK PackageFile: BadRegionFinder_1.37.0.tar.gz PackageFileSize: 713.6 KiB