Package: BadRegionFinder Version: 1.35.3 Command: /Library/Frameworks/R.framework/Resources/bin/R CMD build --keep-empty-dirs --no-resave-data BadRegionFinder StartedAt: 2025-02-14 15:54:16 -0500 (Fri, 14 Feb 2025) EndedAt: 2025-02-14 15:55:43 -0500 (Fri, 14 Feb 2025) EllapsedTime: 87.9 seconds RetCode: 0 Status: OK PackageFile: BadRegionFinder_1.35.3.tar.gz PackageFileSize: 833.1 KiB