Package: BadRegionFinder Version: 1.35.2 Command: /home/biocbuild/R/R/bin/R CMD INSTALL BadRegionFinder StartedAt: 2025-01-29 20:01:28 -0000 (Wed, 29 Jan 2025) EndedAt: 2025-01-29 20:02:24 -0000 (Wed, 29 Jan 2025) EllapsedTime: 56.2 seconds RetCode: 0 Status: OK