Package: BadRegionFinder Version: 1.35.0 Command: /home/biocbuild/R/R/bin/R CMD check --install=check:BadRegionFinder.install-out.txt --library=/home/biocbuild/R/R/site-library --no-vignettes --timings BadRegionFinder_1.35.0.tar.gz StartedAt: 2025-01-18 04:28:43 -0000 (Sat, 18 Jan 2025) EndedAt: 2025-01-18 04:36:12 -0000 (Sat, 18 Jan 2025) EllapsedTime: 448.7 seconds RetCode: 0 Status: WARNINGS CheckDir: BadRegionFinder.Rcheck Warnings: 5