Package: BadRegionFinder Version: 1.35.2 Command: /home/biocbuild/R/R/bin/R CMD build --keep-empty-dirs --no-resave-data BadRegionFinder StartedAt: 2025-01-29 20:57:13 -0000 (Wed, 29 Jan 2025) EndedAt: 2025-01-29 20:59:03 -0000 (Wed, 29 Jan 2025) EllapsedTime: 110.0 seconds RetCode: 0 Status: OK PackageFile: BadRegionFinder_1.35.2.tar.gz PackageFileSize: 821.3 KiB