Package: BaalChIP Version: 1.35.0 Command: rm -rf BaalChIP.buildbin-libdir && mkdir BaalChIP.buildbin-libdir && F:\biocbuild\bbs-3.22-bioc\R\bin\R.exe CMD INSTALL --build --library=BaalChIP.buildbin-libdir BaalChIP_1.35.0.tar.gz StartedAt: 2025-08-15 09:45:26 -0400 (Fri, 15 Aug 2025) EndedAt: 2025-08-15 09:47:12 -0400 (Fri, 15 Aug 2025) EllapsedTime: 105.9 seconds RetCode: 0 Status: OK PackageFile: BaalChIP_1.35.0.zip PackageFileSize: 99.47 MiB