Package: BaalChIP Version: 1.33.0 Command: rm -rf BaalChIP.buildbin-libdir && mkdir BaalChIP.buildbin-libdir && E:\biocbuild\bbs-3.21-bioc\R\bin\R.exe CMD INSTALL --build --library=BaalChIP.buildbin-libdir BaalChIP_1.33.0.tar.gz StartedAt: 2025-02-17 07:02:23 -0500 (Mon, 17 Feb 2025) EndedAt: 2025-02-17 07:04:10 -0500 (Mon, 17 Feb 2025) EllapsedTime: 107.2 seconds RetCode: 0 Status: OK PackageFile: BaalChIP_1.33.0.zip PackageFileSize: 99.47 MiB