Package: BaalChIP Version: 1.33.0 Command: /Library/Frameworks/R.framework/Resources/bin/R CMD INSTALL BaalChIP StartedAt: 2025-02-18 15:08:18 -0500 (Tue, 18 Feb 2025) EndedAt: 2025-02-18 15:08:46 -0500 (Tue, 18 Feb 2025) EllapsedTime: 27.9 seconds RetCode: 0 Status: OK