Package: BaalChIP Version: 1.33.0 Command: rm -rf BaalChIP.buildbin-libdir && mkdir BaalChIP.buildbin-libdir && /Users/biocbuild/BBS/utils/build-universal.sh BaalChIP_1.33.0.tar.gz /Library/Frameworks/R.framework/Resources/bin/R BaalChIP.buildbin-libdir StartedAt: 2025-02-18 22:13:33 -0500 (Tue, 18 Feb 2025) EndedAt: 2025-02-18 22:14:08 -0500 (Tue, 18 Feb 2025) EllapsedTime: 34.6 seconds RetCode: 0 Status: OK PackageFile: BaalChIP_1.33.0.tgz PackageFileSize: 100.2 MiB