Package: BUSseq Version: 1.15.0 Command: chmod a+r BUSseq -R && F:\biocbuild\bbs-3.22-bioc\R\bin\R.exe CMD build --keep-empty-dirs --no-resave-data BUSseq StartedAt: 2025-08-14 18:53:07 -0400 (Thu, 14 Aug 2025) EndedAt: 2025-08-14 18:58:32 -0400 (Thu, 14 Aug 2025) EllapsedTime: 325.7 seconds RetCode: 0 Status: OK PackageFile: BUSseq_1.15.0.tar.gz PackageFileSize: 914.1 KiB