Package: BUSseq Version: 1.15.0 Command: rm -rf BUSseq.buildbin-libdir && mkdir BUSseq.buildbin-libdir && F:\biocbuild\bbs-3.22-bioc\R\bin\R.exe CMD INSTALL --build --library=BUSseq.buildbin-libdir BUSseq_1.15.0.tar.gz StartedAt: 2025-08-15 09:52:58 -0400 (Fri, 15 Aug 2025) EndedAt: 2025-08-15 09:53:33 -0400 (Fri, 15 Aug 2025) EllapsedTime: 35.5 seconds RetCode: 0 Status: OK PackageFile: BUSseq_1.15.0.zip PackageFileSize: 1.282 MiB