Package: BUSseq Version: 1.15.0 Maintainer: Fangda Song MaintainerEmail: sfd1994895 at gmail.com git_url: https://git.bioconductor.org/packages/BUSseq git_branch: devel git_last_commit: e6d5e61 git_last_commit_date: 2025-04-15 12:33:55 -0400 (Tue, 15 Apr 2025)