Package: BUSpaRse Version: 1.23.1 Command: F:\biocbuild\bbs-3.22-bioc\R\bin\R.exe CMD INSTALL BUSpaRse StartedAt: 2025-08-14 16:37:15 -0400 (Thu, 14 Aug 2025) EndedAt: 2025-08-14 16:39:06 -0400 (Thu, 14 Aug 2025) EllapsedTime: 110.6 seconds RetCode: 0 Status: OK