Package: BUScorrect Version: 1.27.0 Command: /home/biocbuild/bbs-3.22-bioc/R/bin/R CMD INSTALL BUScorrect StartedAt: 2025-10-01 15:21:08 -0400 (Wed, 01 Oct 2025) EndedAt: 2025-10-01 15:21:30 -0400 (Wed, 01 Oct 2025) EllapsedTime: 21.8 seconds RetCode: 0 Status: OK