Package: BUScorrect Version: 1.27.0 Command: /home/biocbuild/bbs-3.22-bioc/R/bin/R CMD build --keep-empty-dirs --no-resave-data --md5 BUScorrect StartedAt: 2025-10-01 16:52:34 -0400 (Wed, 01 Oct 2025) EndedAt: 2025-10-01 16:54:39 -0400 (Wed, 01 Oct 2025) EllapsedTime: 125.1 seconds RetCode: 0 Status: OK PackageFile: BUScorrect_1.27.0.tar.gz PackageFileSize: 3.519 MiB