Package: BUS Version: 1.65.0 Command: /home/biocbuild/bbs-3.22-bioc/R/bin/R CMD INSTALL BUS StartedAt: 2025-10-10 15:23:58 -0400 (Fri, 10 Oct 2025) EndedAt: 2025-10-10 15:24:04 -0400 (Fri, 10 Oct 2025) EllapsedTime: 6.7 seconds RetCode: 0 Status: OK