Package: BUS Version: 1.63.0 Command: /Library/Frameworks/R.framework/Resources/bin/R CMD INSTALL BUS StartedAt: 2025-01-10 15:41:34 -0500 (Fri, 10 Jan 2025) EndedAt: 2025-01-10 15:41:40 -0500 (Fri, 10 Jan 2025) EllapsedTime: 6.0 seconds RetCode: 0 Status: OK