Package: BUMHMM Version: 1.33.0 Command: chmod a+r BUMHMM -R && F:\biocbuild\bbs-3.22-bioc\R\bin\R.exe CMD build --keep-empty-dirs --no-resave-data BUMHMM StartedAt: 2025-08-14 18:52:32 -0400 (Thu, 14 Aug 2025) EndedAt: 2025-08-14 18:53:34 -0400 (Thu, 14 Aug 2025) EllapsedTime: 62.2 seconds RetCode: 0 Status: OK PackageFile: BUMHMM_1.33.0.tar.gz PackageFileSize: 705.1 KiB