Package: BUMHMM Version: 1.33.0 Maintainer: Alina Selega MaintainerEmail: alina.selega at gmail.com git_url: https://git.bioconductor.org/packages/BUMHMM git_branch: devel git_last_commit: e2513b2 git_last_commit_date: 2025-04-15 11:07:30 -0400 (Tue, 15 Apr 2025)