Package: BSgenomeForge Version: 1.9.0 Command: /Library/Frameworks/R.framework/Resources/bin/R CMD INSTALL BSgenomeForge StartedAt: 2025-05-19 15:13:52 -0400 (Mon, 19 May 2025) EndedAt: 2025-05-19 15:14:05 -0400 (Mon, 19 May 2025) EllapsedTime: 13.1 seconds RetCode: 0 Status: OK