Package: BSgenome Version: 1.77.2 Command: /home/biocbuild/R/R/bin/R CMD build --keep-empty-dirs --no-resave-data BSgenome StartedAt: 2025-10-16 23:41:39 -0000 (Thu, 16 Oct 2025) EndedAt: 2025-10-16 23:43:32 -0000 (Thu, 16 Oct 2025) EllapsedTime: 113.0 seconds RetCode: 0 Status: OK PackageFile: BSgenome_1.77.2.tar.gz PackageFileSize: 5.62 MiB