Package: BSgenome Version: 1.75.1 Command: rm -rf BSgenome.buildbin-libdir && mkdir BSgenome.buildbin-libdir && E:\biocbuild\bbs-3.21-bioc\R\bin\R.exe CMD INSTALL --build --library=BSgenome.buildbin-libdir BSgenome_1.75.1.tar.gz StartedAt: 2025-02-04 07:35:47 -0500 (Tue, 04 Feb 2025) EndedAt: 2025-02-04 07:37:38 -0500 (Tue, 04 Feb 2025) EllapsedTime: 110.8 seconds RetCode: 0 Status: OK PackageFile: BSgenome_1.75.1.zip PackageFileSize: 6.796 MiB