Package: BSgenome Version: 1.75.1 Command: /home/biocbuild/R/R/bin/R CMD INSTALL BSgenome StartedAt: 2025-01-29 19:53:16 -0000 (Wed, 29 Jan 2025) EndedAt: 2025-01-29 19:54:13 -0000 (Wed, 29 Jan 2025) EllapsedTime: 57.1 seconds RetCode: 0 Status: OK