Package: BSgenome Version: 1.75.1 Command: /Library/Frameworks/R.framework/Resources/bin/R CMD build --keep-empty-dirs --no-resave-data BSgenome StartedAt: 2025-02-03 16:19:59 -0500 (Mon, 03 Feb 2025) EndedAt: 2025-02-03 16:20:42 -0500 (Mon, 03 Feb 2025) EllapsedTime: 42.5 seconds RetCode: 0 Status: OK PackageFile: BSgenome_1.75.1.tar.gz PackageFileSize: 5.629 MiB