Package: BRGenomics Version: 1.17.2 Maintainer: Mike DeBerardine MaintainerEmail: mike.deberardine at gmail.com git_url: https://git.bioconductor.org/packages/BRGenomics git_branch: devel git_last_commit: acbd810 git_last_commit_date: 2024-10-15 09:37:58 -0400 (Tue, 15 Oct 2024)