Package: BREW3R.r Version: 1.3.0 Command: E:\biocbuild\bbs-3.21-bioc\R\bin\R.exe CMD INSTALL BREW3R.r StartedAt: 2025-02-04 15:38:02 -0500 (Tue, 04 Feb 2025) EndedAt: 2025-02-04 15:38:17 -0500 (Tue, 04 Feb 2025) EllapsedTime: 15.9 seconds RetCode: 0 Status: OK