Package: BREW3R.r Version: 1.3.0 Command: /Library/Frameworks/R.framework/Resources/bin/R CMD build --keep-empty-dirs --no-resave-data BREW3R.r StartedAt: 2025-02-03 16:10:13 -0500 (Mon, 03 Feb 2025) EndedAt: 2025-02-03 16:10:48 -0500 (Mon, 03 Feb 2025) EllapsedTime: 34.5 seconds RetCode: 0 Status: OK PackageFile: BREW3R.r_1.3.0.tar.gz PackageFileSize: 1.901 MiB