Package: BREW3R.r Version: 1.3.0 Command: rm -rf BREW3R.r.buildbin-libdir && mkdir BREW3R.r.buildbin-libdir && /Users/biocbuild/BBS/utils/build-universal.sh BREW3R.r_1.3.0.tar.gz /Library/Frameworks/R.framework/Resources/bin/R BREW3R.r.buildbin-libdir StartedAt: 2025-02-04 00:25:16 -0500 (Tue, 04 Feb 2025) EndedAt: 2025-02-04 00:25:29 -0500 (Tue, 04 Feb 2025) EllapsedTime: 13.9 seconds RetCode: 0 Status: OK PackageFile: BREW3R.r_1.3.0.tgz PackageFileSize: 1.931 MiB