Package: BREW3R.r Version: 1.3.0 Command: /home/biocbuild/R/R/bin/R CMD build --keep-empty-dirs --no-resave-data BREW3R.r StartedAt: 2025-01-28 21:28:10 -0000 (Tue, 28 Jan 2025) EndedAt: 2025-01-28 21:29:00 -0000 (Tue, 28 Jan 2025) EllapsedTime: 50.0 seconds RetCode: 0 Status: OK PackageFile: BREW3R.r_1.3.0.tar.gz PackageFileSize: 1.852 MiB